BEGIN:VCALENDAR
VERSION:2.0
PRODID:-//Library Market//iCal Export//EN
BEGIN:VEVENT
SUMMARY:Defensive Driving Class at Orangeburg Library
UID:59009
DTSTAMP:20260419T124600Z
DTSTART:20260517T140000Z
DTEND:20260517T203000Z
LOCATION:Blauvelt Free Library, 541 Western Highway, Blauvelt, NY 10913, U
 nited States
ROOM: Offsite - BLV
DESCRIPTION:Held at the Orangeburg Library with Ian Prastien, Empire Safet
 y Council. Please register in person at the Orangeburg Library. Bring $35 
 cash, check or money order made out to Ian Prastien. This class is in part
 nership with Blauvelt Free Library. You must complete six hours to receive
  an insurance discount.
URL:https://southorangetownlibraries.librarycalendar.com/event/defensive-d
 riving-class-59009
END:VEVENT
END:VCALENDAR
