BEGIN:VCALENDAR
VERSION:2.0
PRODID:-//Library Market//iCal Export//EN
BEGIN:VEVENT
SUMMARY:Storytime at the Library
UID:59042
DTSTAMP:20260420T103000Z
DTSTART:20261203T153000Z
DTEND:20261203T163000Z
LOCATION:19 Closter Road, Palisades, NY 10964, United States
ROOM: Children&#039;s Room (Palisades)
DESCRIPTION:Start your morning with Ms. Jess at Library Storytime! This ge
 ntle, engaging program offers families a relaxing start of the day togethe
 r. We’ll warm up with simple stretches to wake up our bodies, share song
 s that encourage participation and connection, and explore a selection of 
 delightful picture books read aloud by Ms. Jess. After storytime, children
  can enjoy hands-on play and social time in a calm, supportive space.This 
 program is completely tech-free, giving families a mindful break from scre
 ens and a chance to focus on movement, stories, and meaningful interaction
 s. Perfect for young children who learn best through play, rhythm, and rea
 l-world experiences.Note: The Library opens early on Thursdays to accommod
 ate this program.
URL:https://southorangetownlibraries.librarycalendar.com/event/storytime-l
 ibrary-59042
END:VEVENT
END:VCALENDAR
