BEGIN:VCALENDAR
VERSION:2.0
PRODID:-//Library Market//iCal Export//EN
BEGIN:VEVENT
SUMMARY:Button Bouquets
UID:59143
DTSTAMP:20260419T124600Z
DTSTART:20260520T220000Z
DTEND:20260520T233000Z
LOCATION:Orangeburg Library, 20 S. Greenbush Rd., Orangeburg, NY 10962, Un
 ited States
ROOM: Button Bouquets
DESCRIPTION:Make some darling bouquets using buttons. All supplies provide
 d.
URL:https://southorangetownlibraries.librarycalendar.com/event/button-bouq
 uets-59143
END:VEVENT
END:VCALENDAR
