BEGIN:VCALENDAR
VERSION:2.0
PRODID:-//Library Market//iCal Export//EN
BEGIN:VEVENT
SUMMARY:Trusts 101
UID:59144
DTSTAMP:20260419T115600Z
DTSTART:20260507T143000Z
DTEND:20260507T153000Z
LOCATION:Orangeburg Library, 20 S. Greenbush Rd., Orangeburg, NY 10962, Un
 ited States
ROOM: Trusts 101
DESCRIPTION:Local estate planning attorney Stephanie Zacharias  of Cane &
 amp; Boniface, PC explains what a trust is and focuses on living trusts: r
 evocable and irrevocable. Describes why trusts are better than using the b
 eneficiary designations of certain assets. Ends with the importance of fun
 ding the trust with your assets.
URL:https://southorangetownlibraries.librarycalendar.com/event/trusts-101-
 59144
END:VEVENT
END:VCALENDAR
