BEGIN:VCALENDAR
VERSION:2.0
PRODID:-//Library Market//iCal Export//EN
BEGIN:VEVENT
SUMMARY:Line Dancing with Keri
UID:59149
DTSTAMP:20260419T124600Z
DTSTART:20260812T223000Z
DTEND:20260812T233000Z
LOCATION:Orangeburg Library, 20 S. Greenbush Rd., Orangeburg, NY 10962, Un
 ited States
ROOM: Line Dancing with Keri
DESCRIPTION:Learn the basics of new and classic line dances in this fun cl
 ass that feels more like a party than a workout.About the instructor: KERI
 ANN MARSHALL  was born and raised in Rockland County and has been a paral
 egal for 29 years. Her love of line dancing began when one of her best fri
 ends wanted to “Boot, Scootin’ Boogie” at her wedding.  So, she sta
 rted taking lessons at the North Rockland Adult Ed. and got hooked and has
  been teaching ever since.Please Note: Priority will be given to those res
 iding within the South Orangetown School District (Blauvelt, Orangeburg, P
 alisades, Piermont, Sparkill, and Tappan).  
URL:https://southorangetownlibraries.librarycalendar.com/event/line-dancin
 g-keri-59149
END:VEVENT
END:VCALENDAR
